BEGIN:VCALENDAR
VERSION:2.0
PRODID:-//NetAuktion//NONSGML NetAuktion//SV
METHOD:PUBLISH
BEGIN:VEVENT
UID:20260421T104445-1722384713-netauktion.se
DTSTAMP:20260421T104445
DTSTART:20141031T011200
DTEND:20141031T011500
SUMMARY:Netauktion objekt 2012-044 Auktionspåminnelse
DESCRIPTION:Länk till objektet du var intresserad av: https://staging.netauktion.se/auktion/produkt/60st-cd-skivor-fran-rockhyllan
END:VEVENT
END:VCALENDAR
