BEGIN:VCALENDAR
VERSION:2.0
PRODID:-//NetAuktion//NONSGML NetAuktion//SV
METHOD:PUBLISH
BEGIN:VEVENT
UID:20260421T104309-1464630122-netauktion.se
DTSTAMP:20260421T104309
DTSTART:20141031T014500
DTEND:20141031T014800
SUMMARY:Netauktion objekt 2012-052 Auktionspåminnelse
DESCRIPTION:Länk till objektet du var intresserad av: https://staging.netauktion.se/auktion/produkt/55st-cd-skivor-radiohead-rolling-stones-robyn-mfl-r
END:VEVENT
END:VCALENDAR
