BEGIN:VCALENDAR
VERSION:2.0
PRODID:-//NetAuktion//NONSGML NetAuktion//SV
METHOD:PUBLISH
BEGIN:VEVENT
UID:20260421T102639-1397635800-netauktion.se
DTSTAMP:20260421T102639
DTSTART:20141031T015300
DTEND:20141031T015600
SUMMARY:Netauktion objekt 2012-053 Auktionspåminnelse
DESCRIPTION:Länk till objektet du var intresserad av: https://staging.netauktion.se/auktion/produkt/140st-cd-skivor-sade-suede-seal-sting-mfl-s
END:VEVENT
END:VCALENDAR
