BEGIN:VCALENDAR
VERSION:2.0
PRODID:-//NetAuktion//NONSGML NetAuktion//SV
METHOD:PUBLISH
BEGIN:VEVENT
UID:20260421T104440-1858175573-netauktion.se
DTSTAMP:20260421T104440
DTSTART:20141031T013400
DTEND:20141031T013700
SUMMARY:Netauktion objekt 2012-061 Auktionspåminnelse
DESCRIPTION:Länk till objektet du var intresserad av: https://staging.netauktion.se/auktion/produkt/39st-cd-skivor-fran-rockhyllan
END:VEVENT
END:VCALENDAR
