BEGIN:VCALENDAR
VERSION:2.0
PRODID:-//NetAuktion//NONSGML NetAuktion//SV
METHOD:PUBLISH
BEGIN:VEVENT
UID:20260421T104457-1129103470-netauktion.se
DTSTAMP:20260421T104457
DTSTART:20141031T014300
DTEND:20141031T014600
SUMMARY:Netauktion objekt 2012-066 Auktionspåminnelse
DESCRIPTION:Länk till objektet du var intresserad av: https://staging.netauktion.se/auktion/produkt/11st-cd-skivor-och-singlar-kent
END:VEVENT
END:VCALENDAR
