BEGIN:VCALENDAR
VERSION:2.0
PRODID:-//NetAuktion//NONSGML NetAuktion//SV
METHOD:PUBLISH
BEGIN:VEVENT
UID:20260421T104319-1201729907-netauktion.se
DTSTAMP:20260421T104319
DTSTART:20141128T014300
DTEND:20141128T014600
SUMMARY:Netauktion objekt 1544-082 Auktionspåminnelse
DESCRIPTION:Länk till objektet du var intresserad av: https://staging.netauktion.se/auktion/produkt/36st-kattsandsmattor-2
END:VEVENT
END:VCALENDAR
