BEGIN:VCALENDAR
VERSION:2.0
PRODID:-//NetAuktion//NONSGML NetAuktion//SV
METHOD:PUBLISH
BEGIN:VEVENT
UID:20260421T102837-2123510682-netauktion.se
DTSTAMP:20260421T102837
DTSTART:20141128T014200
DTEND:20141128T014500
SUMMARY:Netauktion objekt 1544-091 Auktionspåminnelse
DESCRIPTION:Länk till objektet du var intresserad av: https://staging.netauktion.se/auktion/produkt/parti-hundleksaker-latexhonor-l43cm-4
END:VEVENT
END:VCALENDAR
