BEGIN:VCALENDAR
VERSION:2.0
PRODID:-//NetAuktion//NONSGML NetAuktion//SV
METHOD:PUBLISH
BEGIN:VEVENT
UID:20260421T104352-615631198-netauktion.se
DTSTAMP:20260421T104352
DTSTART:20141128T014400
DTEND:20141128T014700
SUMMARY:Netauktion objekt 1544-110 Auktionspåminnelse
DESCRIPTION:Länk till objektet du var intresserad av: https://staging.netauktion.se/auktion/produkt/parti-hundleksaker-latexhonor-l23cm-4
END:VEVENT
END:VCALENDAR
