BEGIN:VCALENDAR
VERSION:2.0
PRODID:-//NetAuktion//NONSGML NetAuktion//SV
METHOD:PUBLISH
BEGIN:VEVENT
UID:20260421T104458-1506425519-netauktion.se
DTSTAMP:20260421T104458
DTSTART:20150227T032700
DTEND:20150227T033000
SUMMARY:Netauktion objekt 2013-039 Auktionspåminnelse
DESCRIPTION:Länk till objektet du var intresserad av: https://staging.netauktion.se/auktion/produkt/snyggt-rullbart-bord-i-akryl-emi
END:VEVENT
END:VCALENDAR
