BEGIN:VCALENDAR
VERSION:2.0
PRODID:-//NetAuktion//NONSGML NetAuktion//SV
METHOD:PUBLISH
BEGIN:VEVENT
UID:20260421T104432-1467137230-netauktion.se
DTSTAMP:20260421T104432
DTSTART:20141127T023500
DTEND:20141127T023800
SUMMARY:Netauktion objekt 2024-001 Auktionspåminnelse
DESCRIPTION:Länk till objektet du var intresserad av: https://staging.netauktion.se/auktion/produkt/renault-trafic-diesel-2003-ubo313-renovobjekt
END:VEVENT
END:VCALENDAR
