BEGIN:VCALENDAR
VERSION:2.0
PRODID:-//NetAuktion//NONSGML NetAuktion//SV
METHOD:PUBLISH
BEGIN:VEVENT
UID:20260421T102852-798107312-netauktion.se
DTSTAMP:20260421T102852
DTSTART:20141127T022300
DTEND:20141127T022600
SUMMARY:Netauktion objekt 2024-003 Auktionspåminnelse
DESCRIPTION:Länk till objektet du var intresserad av: https://staging.netauktion.se/auktion/produkt/wibe-arbetsbock-2-3
END:VEVENT
END:VCALENDAR
