BEGIN:VCALENDAR
VERSION:2.0
PRODID:-//NetAuktion//NONSGML NetAuktion//SV
METHOD:PUBLISH
BEGIN:VEVENT
UID:20260421T102953-1794707845-netauktion.se
DTSTAMP:20260421T102953
DTSTART:20141127T022400
DTEND:20141127T022700
SUMMARY:Netauktion objekt 2024-012 Auktionspåminnelse
DESCRIPTION:Länk till objektet du var intresserad av: https://staging.netauktion.se/auktion/produkt/brennenstuhl-kabelvinda
END:VEVENT
END:VCALENDAR
