BEGIN:VCALENDAR
VERSION:2.0
PRODID:-//NetAuktion//NONSGML NetAuktion//SV
METHOD:PUBLISH
BEGIN:VEVENT
UID:20260421T104320-1436068192-netauktion.se
DTSTAMP:20260421T104320
DTSTART:20141128T023900
DTEND:20141128T024200
SUMMARY:Netauktion objekt 2041-003 Auktionspåminnelse
DESCRIPTION:Länk till objektet du var intresserad av: https://staging.netauktion.se/auktion/produkt/cantosan-brut-halvtorr-12
END:VEVENT
END:VCALENDAR
