BEGIN:VCALENDAR
VERSION:2.0
PRODID:-//NetAuktion//NONSGML NetAuktion//SV
METHOD:PUBLISH
BEGIN:VEVENT
UID:20260421T104306-1236944870-netauktion.se
DTSTAMP:20260421T104306
DTSTART:20141128T023300
DTEND:20141128T023600
SUMMARY:Netauktion objekt 2041-004 Auktionspåminnelse
DESCRIPTION:Länk till objektet du var intresserad av: https://staging.netauktion.se/auktion/produkt/bracamonte-crianza-14-tempranillo
END:VEVENT
END:VCALENDAR
