BEGIN:VCALENDAR
VERSION:2.0
PRODID:-//NetAuktion//NONSGML NetAuktion//SV
METHOD:PUBLISH
BEGIN:VEVENT
UID:20260421T104324-418885714-netauktion.se
DTSTAMP:20260421T104324
DTSTART:20141128T023400
DTEND:20141128T023700
SUMMARY:Netauktion objekt 2041-005 Auktionspåminnelse
DESCRIPTION:Länk till objektet du var intresserad av: https://staging.netauktion.se/auktion/produkt/yllera-crianza-145-tempranillo
END:VEVENT
END:VCALENDAR
