BEGIN:VCALENDAR
VERSION:2.0
PRODID:-//NetAuktion//NONSGML NetAuktion//SV
METHOD:PUBLISH
BEGIN:VEVENT
UID:20260421T104630-889421863-netauktion.se
DTSTAMP:20260421T104630
DTSTART:20080829T013500
DTEND:20080829T013800
SUMMARY:Netauktion objekt 0067-001 Auktionspåminnelse
DESCRIPTION:Länk till objektet du var intresserad av: https://staging.netauktion.se/auktion/produkt/kaffemaskin-coffee-queen
END:VEVENT
END:VCALENDAR
