BEGIN:VCALENDAR
VERSION:2.0
PRODID:-//NetAuktion//NONSGML NetAuktion//SV
METHOD:PUBLISH
BEGIN:VEVENT
UID:20260421T104431-1036816530-netauktion.se
DTSTAMP:20260421T104431
DTSTART:20141128T023600
DTEND:20141128T023900
SUMMARY:Netauktion objekt 2041-007 Auktionspåminnelse
DESCRIPTION:Länk till objektet du var intresserad av: https://staging.netauktion.se/auktion/produkt/cantosan-reserva-especial-torr-12-2
END:VEVENT
END:VCALENDAR
