BEGIN:VCALENDAR
VERSION:2.0
PRODID:-//NetAuktion//NONSGML NetAuktion//SV
METHOD:PUBLISH
BEGIN:VEVENT
UID:20260421T104355-224492357-netauktion.se
DTSTAMP:20260421T104355
DTSTART:20141128T023700
DTEND:20141128T024000
SUMMARY:Netauktion objekt 2041-008 Auktionspåminnelse
DESCRIPTION:Länk till objektet du var intresserad av: https://staging.netauktion.se/auktion/produkt/cantosan-reserva-especial-torr-12-3
END:VEVENT
END:VCALENDAR
