BEGIN:VCALENDAR
VERSION:2.0
PRODID:-//NetAuktion//NONSGML NetAuktion//SV
METHOD:PUBLISH
BEGIN:VEVENT
UID:20260421T103316-421013348-netauktion.se
DTSTAMP:20260421T103316
DTSTART:20141128T023800
DTEND:20141128T024100
SUMMARY:Netauktion objekt 2041-009 Auktionspåminnelse
DESCRIPTION:Länk till objektet du var intresserad av: https://staging.netauktion.se/auktion/produkt/cantosan-reserva-especial-torr-12-4
END:VEVENT
END:VCALENDAR
