BEGIN:VCALENDAR
VERSION:2.0
PRODID:-//NetAuktion//NONSGML NetAuktion//SV
METHOD:PUBLISH
BEGIN:VEVENT
UID:20260421T104355-131348649-netauktion.se
DTSTAMP:20260421T104355
DTSTART:20141222T035300
DTEND:20141222T035600
SUMMARY:Netauktion objekt 2040-025 Auktionspåminnelse
DESCRIPTION:Länk till objektet du var intresserad av: https://staging.netauktion.se/auktion/produkt/herrparfym-deo-armani-versace-mfl
END:VEVENT
END:VCALENDAR
