BEGIN:VCALENDAR
VERSION:2.0
PRODID:-//NetAuktion//NONSGML NetAuktion//SV
METHOD:PUBLISH
BEGIN:VEVENT
UID:20260421T104615-1702383524-netauktion.se
DTSTAMP:20260421T104615
DTSTART:20150831T012200
DTEND:20150831T012500
SUMMARY:Netauktion objekt 1953-034 Auktionspåminnelse
DESCRIPTION:Länk till objektet du var intresserad av: https://staging.netauktion.se/auktion/produkt/propeller-och-bultlas-3
END:VEVENT
END:VCALENDAR
