BEGIN:VCALENDAR
VERSION:2.0
PRODID:-//NetAuktion//NONSGML NetAuktion//SV
METHOD:PUBLISH
BEGIN:VEVENT
UID:20260421T104434-350340634-netauktion.se
DTSTAMP:20260421T104434
DTSTART:20141222T033000
DTEND:20141222T033300
SUMMARY:Netauktion objekt 1615-458 Auktionspåminnelse
DESCRIPTION:Länk till objektet du var intresserad av: https://staging.netauktion.se/auktion/produkt/24st-muggar-modesty-blaise-5-7
END:VEVENT
END:VCALENDAR
