BEGIN:VCALENDAR
VERSION:2.0
PRODID:-//NetAuktion//NONSGML NetAuktion//SV
METHOD:PUBLISH
BEGIN:VEVENT
UID:20260421T104604-707843205-netauktion.se
DTSTAMP:20260421T104604
DTSTART:20141222T033100
DTEND:20141222T033400
SUMMARY:Netauktion objekt 1615-472 Auktionspåminnelse
DESCRIPTION:Länk till objektet du var intresserad av: https://staging.netauktion.se/auktion/produkt/24st-muggar-fantomen-4
END:VEVENT
END:VCALENDAR
