BEGIN:VCALENDAR
VERSION:2.0
PRODID:-//NetAuktion//NONSGML NetAuktion//SV
METHOD:PUBLISH
BEGIN:VEVENT
UID:20260421T104306-1579774116-netauktion.se
DTSTAMP:20260421T104306
DTSTART:20141222T033900
DTEND:20141222T034200
SUMMARY:Netauktion objekt 1615-496 Auktionspåminnelse
DESCRIPTION:Länk till objektet du var intresserad av: https://staging.netauktion.se/auktion/produkt/julklappspaket-simpsons
END:VEVENT
END:VCALENDAR
