BEGIN:VCALENDAR
VERSION:2.0
PRODID:-//NetAuktion//NONSGML NetAuktion//SV
METHOD:PUBLISH
BEGIN:VEVENT
UID:20260421T104439-1914351542-netauktion.se
DTSTAMP:20260421T104439
DTSTART:20141222T034100
DTEND:20141222T034400
SUMMARY:Netauktion objekt 1615-498 Auktionspåminnelse
DESCRIPTION:Länk till objektet du var intresserad av: https://staging.netauktion.se/auktion/produkt/simpsons-paket-3
END:VEVENT
END:VCALENDAR
