BEGIN:VCALENDAR
VERSION:2.0
PRODID:-//NetAuktion//NONSGML NetAuktion//SV
METHOD:PUBLISH
BEGIN:VEVENT
UID:20260421T102952-356288684-netauktion.se
DTSTAMP:20260421T102952
DTSTART:20141222T034300
DTEND:20141222T034600
SUMMARY:Netauktion objekt 1615-501 Auktionspåminnelse
DESCRIPTION:Länk till objektet du var intresserad av: https://staging.netauktion.se/auktion/produkt/24st-rorelsedetektorer-homer-simpsons
END:VEVENT
END:VCALENDAR
