BEGIN:VCALENDAR
VERSION:2.0
PRODID:-//NetAuktion//NONSGML NetAuktion//SV
METHOD:PUBLISH
BEGIN:VEVENT
UID:20260421T104355-816871905-netauktion.se
DTSTAMP:20260421T104355
DTSTART:20141222T034400
DTEND:20141222T034700
SUMMARY:Netauktion objekt 1615-504 Auktionspåminnelse
DESCRIPTION:Länk till objektet du var intresserad av: https://staging.netauktion.se/auktion/produkt/ca-50st-nyckelringar-homer-simpsons
END:VEVENT
END:VCALENDAR
