BEGIN:VCALENDAR
VERSION:2.0
PRODID:-//NetAuktion//NONSGML NetAuktion//SV
METHOD:PUBLISH
BEGIN:VEVENT
UID:20260421T104311-1850459086-netauktion.se
DTSTAMP:20260421T104311
DTSTART:20150227T022500
DTEND:20150227T022800
SUMMARY:Netauktion objekt 2068-039 Auktionspåminnelse
DESCRIPTION:Länk till objektet du var intresserad av: https://staging.netauktion.se/auktion/produkt/47st-samlingsalbum-absolute-dance-absolute-music-mfl-3
END:VEVENT
END:VCALENDAR
