BEGIN:VCALENDAR
VERSION:2.0
PRODID:-//NetAuktion//NONSGML NetAuktion//SV
METHOD:PUBLISH
BEGIN:VEVENT
UID:20260421T104318-944555155-netauktion.se
DTSTAMP:20260421T104318
DTSTART:20150130T033900
DTEND:20150130T034200
SUMMARY:Netauktion objekt 2117-001 Auktionspåminnelse
DESCRIPTION:Länk till objektet du var intresserad av: https://staging.netauktion.se/auktion/produkt/till-verkstaden
END:VEVENT
END:VCALENDAR
