BEGIN:VCALENDAR
VERSION:2.0
PRODID:-//NetAuktion//NONSGML NetAuktion//SV
METHOD:PUBLISH
BEGIN:VEVENT
UID:20260421T104439-1467469096-netauktion.se
DTSTAMP:20260421T104439
DTSTART:20150130T040200
DTEND:20150130T040500
SUMMARY:Netauktion objekt 2117-017 Auktionspåminnelse
DESCRIPTION:Länk till objektet du var intresserad av: https://staging.netauktion.se/auktion/produkt/laptop-samsung
END:VEVENT
END:VCALENDAR
