BEGIN:VCALENDAR
VERSION:2.0
PRODID:-//NetAuktion//NONSGML NetAuktion//SV
METHOD:PUBLISH
BEGIN:VEVENT
UID:20260421T102833-964990667-netauktion.se
DTSTAMP:20260421T102833
DTSTART:20150130T042200
DTEND:20150130T042500
SUMMARY:Netauktion objekt 2117-046 Auktionspåminnelse
DESCRIPTION:Länk till objektet du var intresserad av: https://staging.netauktion.se/auktion/produkt/volvo-v40-fau462-99
END:VEVENT
END:VCALENDAR
