BEGIN:VCALENDAR
VERSION:2.0
PRODID:-//NetAuktion//NONSGML NetAuktion//SV
METHOD:PUBLISH
BEGIN:VEVENT
UID:20260421T102802-57826482-netauktion.se
DTSTAMP:20260421T102802
DTSTART:20150527T023400
DTEND:20150527T023700
SUMMARY:Netauktion objekt 2038-178 Auktionspåminnelse
DESCRIPTION:Länk till objektet du var intresserad av: https://staging.netauktion.se/auktion/produkt/vaska-seebychloe-och-iphonefodral-butikspris-1900-2
END:VEVENT
END:VCALENDAR
