BEGIN:VCALENDAR
VERSION:2.0
PRODID:-//NetAuktion//NONSGML NetAuktion//SV
METHOD:PUBLISH
BEGIN:VEVENT
UID:20260421T104306-2108799013-netauktion.se
DTSTAMP:20260421T104306
DTSTART:20150227T033500
DTEND:20150227T033800
SUMMARY:Netauktion objekt 2068-141 Auktionspåminnelse
DESCRIPTION:Länk till objektet du var intresserad av: https://staging.netauktion.se/auktion/produkt/ca-70st-vinylskivor-singlargrammofon-lp
END:VEVENT
END:VCALENDAR
