BEGIN:VCALENDAR
VERSION:2.0
PRODID:-//NetAuktion//NONSGML NetAuktion//SV
METHOD:PUBLISH
BEGIN:VEVENT
UID:20260421T104355-1865995438-netauktion.se
DTSTAMP:20260421T104355
DTSTART:20150227T032100
DTEND:20150227T032400
SUMMARY:Netauktion objekt 2068-143 Auktionspåminnelse
DESCRIPTION:Länk till objektet du var intresserad av: https://staging.netauktion.se/auktion/produkt/150st-cd-skivor-soundtracks-mm
END:VEVENT
END:VCALENDAR
