BEGIN:VCALENDAR
VERSION:2.0
PRODID:-//NetAuktion//NONSGML NetAuktion//SV
METHOD:PUBLISH
BEGIN:VEVENT
UID:20260421T104530-88752825-netauktion.se
DTSTAMP:20260421T104530
DTSTART:20150227T155700
DTEND:20150227T160000
SUMMARY:Netauktion objekt 2151-002 Auktionspåminnelse
DESCRIPTION:Länk till objektet du var intresserad av: https://staging.netauktion.se/auktion/produkt/lg-42-lcd-tv
END:VEVENT
END:VCALENDAR
