BEGIN:VCALENDAR
VERSION:2.0
PRODID:-//NetAuktion//NONSGML NetAuktion//SV
METHOD:PUBLISH
BEGIN:VEVENT
UID:20260421T104453-1861382467-netauktion.se
DTSTAMP:20260421T104453
DTSTART:20150429T023100
DTEND:20150429T023400
SUMMARY:Netauktion objekt 2147-007 Auktionspåminnelse
DESCRIPTION:Länk till objektet du var intresserad av: https://staging.netauktion.se/auktion/produkt/volvo-v70-24d-gfb311-06
END:VEVENT
END:VCALENDAR
