BEGIN:VCALENDAR
VERSION:2.0
PRODID:-//NetAuktion//NONSGML NetAuktion//SV
METHOD:PUBLISH
BEGIN:VEVENT
UID:20260421T102855-1850676986-netauktion.se
DTSTAMP:20260421T102855
DTSTART:20150429T023200
DTEND:20150429T023500
SUMMARY:Netauktion objekt 2147-009 Auktionspåminnelse
DESCRIPTION:Länk till objektet du var intresserad av: https://staging.netauktion.se/auktion/produkt/volvo-850-25-glt-hah723-96
END:VEVENT
END:VCALENDAR
