BEGIN:VCALENDAR
VERSION:2.0
PRODID:-//NetAuktion//NONSGML NetAuktion//SV
METHOD:PUBLISH
BEGIN:VEVENT
UID:20260421T102951-915794196-netauktion.se
DTSTAMP:20260421T102951
DTSTART:20150429T024800
DTEND:20150429T025100
SUMMARY:Netauktion objekt 2147-023 Auktionspåminnelse
DESCRIPTION:Länk till objektet du var intresserad av: https://staging.netauktion.se/auktion/produkt/opel-zafira-18-rnd957-00
END:VEVENT
END:VCALENDAR
