BEGIN:VCALENDAR
VERSION:2.0
PRODID:-//NetAuktion//NONSGML NetAuktion//SV
METHOD:PUBLISH
BEGIN:VEVENT
UID:20260421T104438-802565013-netauktion.se
DTSTAMP:20260421T104438
DTSTART:20150429T023700
DTEND:20150429T024000
SUMMARY:Netauktion objekt 2147-036 Auktionspåminnelse
DESCRIPTION:Länk till objektet du var intresserad av: https://staging.netauktion.se/auktion/produkt/vw-lupo-14-tft200-02
END:VEVENT
END:VCALENDAR
