BEGIN:VCALENDAR
VERSION:2.0
PRODID:-//NetAuktion//NONSGML NetAuktion//SV
METHOD:PUBLISH
BEGIN:VEVENT
UID:20260421T104530-121673965-netauktion.se
DTSTAMP:20260421T104530
DTSTART:20150429T023600
DTEND:20150429T023900
SUMMARY:Netauktion objekt 2147-038 Auktionspåminnelse
DESCRIPTION:Länk till objektet du var intresserad av: https://staging.netauktion.se/auktion/produkt/citroen-c5-20-sx-trp747-02
END:VEVENT
END:VCALENDAR
