BEGIN:VCALENDAR
VERSION:2.0
PRODID:-//NetAuktion//NONSGML NetAuktion//SV
METHOD:PUBLISH
BEGIN:VEVENT
UID:20260421T102933-147346046-netauktion.se
DTSTAMP:20260421T102933
DTSTART:20150429T023700
DTEND:20150429T024000
SUMMARY:Netauktion objekt 2147-045 Auktionspåminnelse
DESCRIPTION:Länk till objektet du var intresserad av: https://staging.netauktion.se/auktion/produkt/bmw-530i-sedan-e60-uoy389-03
END:VEVENT
END:VCALENDAR
