BEGIN:VCALENDAR
VERSION:2.0
PRODID:-//NetAuktion//NONSGML NetAuktion//SV
METHOD:PUBLISH
BEGIN:VEVENT
UID:20260421T104304-84472151-netauktion.se
DTSTAMP:20260421T104304
DTSTART:20150429T025400
DTEND:20150429T025700
SUMMARY:Netauktion objekt 2147-056 Auktionspåminnelse
DESCRIPTION:Länk till objektet du var intresserad av: https://staging.netauktion.se/auktion/produkt/skoda-fabia-12-xet702-05
END:VEVENT
END:VCALENDAR
