BEGIN:VCALENDAR
VERSION:2.0
PRODID:-//NetAuktion//NONSGML NetAuktion//SV
METHOD:PUBLISH
BEGIN:VEVENT
UID:20260421T102935-1291486472-netauktion.se
DTSTAMP:20260421T102935
DTSTART:20150528T030300
DTEND:20150528T030600
SUMMARY:Netauktion objekt 1586-065 Auktionspåminnelse
DESCRIPTION:Länk till objektet du var intresserad av: https://staging.netauktion.se/auktion/produkt/1-st-ultraljudstvatt-tab-gt-1200-2-2
END:VEVENT
END:VCALENDAR
