BEGIN:VCALENDAR
VERSION:2.0
PRODID:-//NetAuktion//NONSGML NetAuktion//SV
METHOD:PUBLISH
BEGIN:VEVENT
UID:20260421T104532-1814063716-netauktion.se
DTSTAMP:20260421T104532
DTSTART:20150529T014800
DTEND:20150529T015100
SUMMARY:Netauktion objekt 1947-079 Auktionspåminnelse
DESCRIPTION:Länk till objektet du var intresserad av: https://staging.netauktion.se/auktion/produkt/snuskyl-36
END:VEVENT
END:VCALENDAR
