BEGIN:VCALENDAR
VERSION:2.0
PRODID:-//NetAuktion//NONSGML NetAuktion//SV
METHOD:PUBLISH
BEGIN:VEVENT
UID:20260421T102838-1295110848-netauktion.se
DTSTAMP:20260421T102838
DTSTART:20150529T020100
DTEND:20150529T020400
SUMMARY:Netauktion objekt 2145-062 Auktionspåminnelse
DESCRIPTION:Länk till objektet du var intresserad av: https://staging.netauktion.se/auktion/produkt/loom-bands-50fp-8
END:VEVENT
END:VCALENDAR
