BEGIN:VCALENDAR
VERSION:2.0
PRODID:-//NetAuktion//NONSGML NetAuktion//SV
METHOD:PUBLISH
BEGIN:VEVENT
UID:20260421T104426-1752565617-netauktion.se
DTSTAMP:20260421T104426
DTSTART:20150331T021900
DTEND:20150331T022200
SUMMARY:Netauktion objekt 2049-125 Auktionspåminnelse
DESCRIPTION:Länk till objektet du var intresserad av: https://staging.netauktion.se/auktion/produkt/parti-med-borr-halborr-mm
END:VEVENT
END:VCALENDAR
