BEGIN:VCALENDAR
VERSION:2.0
PRODID:-//NetAuktion//NONSGML NetAuktion//SV
METHOD:PUBLISH
BEGIN:VEVENT
UID:20260421T104323-283746343-netauktion.se
DTSTAMP:20260421T104323
DTSTART:20080718T014700
DTEND:20080718T015000
SUMMARY:Netauktion objekt 0069-040 Auktionspåminnelse
DESCRIPTION:Länk till objektet du var intresserad av: https://staging.netauktion.se/auktion/produkt/9st-ramartavlor
END:VEVENT
END:VCALENDAR
