BEGIN:VCALENDAR
VERSION:2.0
PRODID:-//NetAuktion//NONSGML NetAuktion//SV
METHOD:PUBLISH
BEGIN:VEVENT
UID:20260421T104601-1312074111-netauktion.se
DTSTAMP:20260421T104601
DTSTART:20150331T022900
DTEND:20150331T023200
SUMMARY:Netauktion objekt 2049-133 Auktionspåminnelse
DESCRIPTION:Länk till objektet du var intresserad av: https://staging.netauktion.se/auktion/produkt/rems-mini-press-batteridriven-presskaftar-6
END:VEVENT
END:VCALENDAR
