BEGIN:VCALENDAR
VERSION:2.0
PRODID:-//NetAuktion//NONSGML NetAuktion//SV
METHOD:PUBLISH
BEGIN:VEVENT
UID:20260421T104443-1492564359-netauktion.se
DTSTAMP:20260421T104443
DTSTART:20150331T023000
DTEND:20150331T023300
SUMMARY:Netauktion objekt 2049-142 Auktionspåminnelse
DESCRIPTION:Länk till objektet du var intresserad av: https://staging.netauktion.se/auktion/produkt/presskopplingar-i-koppar-7st-lador
END:VEVENT
END:VCALENDAR
