BEGIN:VCALENDAR
VERSION:2.0
PRODID:-//NetAuktion//NONSGML NetAuktion//SV
METHOD:PUBLISH
BEGIN:VEVENT
UID:20260421T104254-929892236-netauktion.se
DTSTAMP:20260421T104254
DTSTART:20080718T014400
DTEND:20080718T014700
SUMMARY:Netauktion objekt 0069-041 Auktionspåminnelse
DESCRIPTION:Länk till objektet du var intresserad av: https://staging.netauktion.se/auktion/produkt/kladhangar-paraplystall
END:VEVENT
END:VCALENDAR
